
BEGIN:VCALENDAR
VERSION:2.0
PRODID:-//MarkedsPartner AS//Umbraco CMS//NO
TIMEZONE-ID:Europe/Oslo
X-WR-TIMEZONE:Europe/Oslo


BEGIN:VEVENT
UID:f2d1a51b3b9c4e2cbe86edf9a709a5d3
URL:https://stavangernaering-2023.azurewebsites.net/en/events/archive/doing-business-in-norway_220322/
ORGANIZER;CN=Ola Normann:MAILTO:ola.normann@markedspartner.no
DTSTAMP:20220322T173000Z
DTSTART:20220322T173000Z
DTEND:20220322T200000Z
LAST-MODIFIED:20220323T140456Z
SUMMARY:Doing business in Norway: Contracts
DESCRIPTION:Contracting is crucial to any successful business, and Scandinavian contract law, although firmly based on principles of freedom to contract and that contracts shall be kept, does have some peculiarities both compared to common and civil law systems.
X-ALT-DESC:Contracting is crucial to any successful business, and Scandinavian contract law, although firmly based on principles of freedom to contract and that contracts shall be kept, does have some peculiarities both compared to common and civil law systems.
LOCATION:Rosenkildehuset, Strandkaien 6, 4005 Stavanger
END:VEVENT


END:VCALENDAR



