
BEGIN:VCALENDAR
VERSION:2.0
PRODID:-//MarkedsPartner AS//Umbraco CMS//NO
TIMEZONE-ID:Europe/Oslo
X-WR-TIMEZONE:Europe/Oslo


BEGIN:VEVENT
UID:43506725935348cb890c594eb02d9b9f
URL:https://stavangernaering-2023.azurewebsites.net/en/events/archive/dialektkurs_161124/
ORGANIZER;CN=Ola Normann:MAILTO:ola.normann@markedspartner.no
DTSTAMP:20241121T164500Z
DTSTART:20241121T164500Z
DTEND:20241121T190000Z
LAST-MODIFIED:20241122T114653Z
SUMMARY:Master the Stavanger dialect 
DESCRIPTION:Most people studying Norwegian are only exposed to Bokmål, but it is the dialects that truly make up the Norwegian language. This course will cover the basics of the Stavanger dialect
X-ALT-DESC:Most people studying Norwegian are only exposed to Bokm&#229;l, but it is the dialects that truly make up the Norwegian language. This course will cover the basics of the Stavanger dialect
LOCATION:Rosenkildehuset
END:VEVENT


END:VCALENDAR



