
BEGIN:VCALENDAR
VERSION:2.0
PRODID:-//MarkedsPartner AS//Umbraco CMS//NO
TIMEZONE-ID:Europe/Oslo
X-WR-TIMEZONE:Europe/Oslo


BEGIN:VEVENT
UID:5da1492308154933934c03ac90828590
URL:https://stavangernaering-2023.azurewebsites.net/en/events/archive/cycling-for-beginners_170620/
ORGANIZER;CN=Ola Normann:MAILTO:ola.normann@markedspartner.no
DTSTAMP:20200617T160000Z
DTSTART:20200617T160000Z
DTEND:20200617T180000Z
LAST-MODIFIED:20200619T064639Z
SUMMARY:Cycling- fun and safety!
DESCRIPTION:Being able to ride a bicycle provides a great deal of freedom, both as a means of transport in everyday life as well as leisure.
X-ALT-DESC:Being able to ride a bicycle provides a great deal of freedom, both as a means of transport in everyday life as well as leisure.
LOCATION:Sykkelg&#229;rden, Sandnes
END:VEVENT


END:VCALENDAR



