
BEGIN:VCALENDAR
VERSION:2.0
PRODID:-//MarkedsPartner AS//Umbraco CMS//NO
TIMEZONE-ID:Europe/Oslo
X-WR-TIMEZONE:Europe/Oslo


BEGIN:VEVENT
UID:10200c86f0264c40be8a1aa58e8e56cf
URL:https://stavangernaering-2023.azurewebsites.net/en/events/archive/cycling-for-beginners_130421/
ORGANIZER;CN=Ola Normann:MAILTO:ola.normann@markedspartner.no
DTSTAMP:20210526T160000Z
DTSTART:20210526T160000Z
DTEND:20210526T183000Z
LAST-MODIFIED:20210527T183654Z
SUMMARY:Cycling- fun and safety 
DESCRIPTION:Being able to ride a bicycle provides a great deal of freedom, both as a means of transport in everyday life as well as leisure.
X-ALT-DESC:Being able to ride a bicycle provides a great deal of freedom, both as a means of transport in everyday life as well as leisure.
LOCATION:Hans Gudes Vei 22, 4023 Stavanger
END:VEVENT


END:VCALENDAR



