
BEGIN:VCALENDAR
VERSION:2.0
PRODID:-//MarkedsPartner AS//Umbraco CMS//NO
TIMEZONE-ID:Europe/Oslo
X-WR-TIMEZONE:Europe/Oslo


BEGIN:VEVENT
UID:cfc16ea07f224c64b06b259836f0847a
URL:https://stavangernaering-2023.azurewebsites.net/en/events/archive/cycling-for-beginners_090920-1/
ORGANIZER;CN=Ola Normann:MAILTO:ola.normann@markedspartner.no
DTSTAMP:20200909T160000Z
DTSTART:20200909T160000Z
DTEND:20200909T180000Z
LAST-MODIFIED:20200917T060805Z
SUMMARY:My new hobby: Cycling- fun and safety
DESCRIPTION:Being able to ride a bicycle provides a great deal of freedom, both as a means of transport in everyday life as well as leisure.
X-ALT-DESC:Being able to ride a bicycle provides a great deal of freedom, both as a means of transport in everyday life as well as leisure.
LOCATION:Sykkelg&#229;rden, Sandnes
END:VEVENT


END:VCALENDAR



