
BEGIN:VCALENDAR
VERSION:2.0
PRODID:-//MarkedsPartner AS//Umbraco CMS//NO
TIMEZONE-ID:Europe/Oslo
X-WR-TIMEZONE:Europe/Oslo


BEGIN:VEVENT
UID:a0e79d6b8daf4ea28ca3c4e2d5cd2eb0
URL:https://stavangernaering-2023.azurewebsites.net/en/events/archive/cv-registration_january-2022/
ORGANIZER;CN=Ola Normann:MAILTO:ola.normann@markedspartner.no
DTSTAMP:20220119T100000Z
DTSTART:20220119T100000Z
DTEND:20220119T113000Z
LAST-MODIFIED:20220119T121315Z
SUMMARY:Looking for a job?
DESCRIPTION:DIGITAL CONFERENCE: Stavanger Chamber of Commerce, together with NAV Eures will update you on the labour marked, CV registration and educational courses and training.
X-ALT-DESC:DIGITAL CONFERENCE: Stavanger Chamber of Commerce, together with NAV Eures will update you on the labour marked, CV registration and educational courses and training.
LOCATION:Digital conference
END:VEVENT


END:VCALENDAR



