
BEGIN:VCALENDAR
VERSION:2.0
PRODID:-//MarkedsPartner AS//Umbraco CMS//NO
TIMEZONE-ID:Europe/Oslo
X-WR-TIMEZONE:Europe/Oslo


BEGIN:VEVENT
UID:fc5d5dfb0bb14f0aad6d457917c68287
URL:https://stavangernaering-2023.azurewebsites.net/en/events/archive/cv-registration_140921/
ORGANIZER;CN=Ola Normann:MAILTO:ola.normann@markedspartner.no
DTSTAMP:20210914T103000Z
DTSTART:20210914T103000Z
DTEND:20210914T123000Z
LAST-MODIFIED:20210914T134439Z
SUMMARY:Labour marked update and study opportunities
DESCRIPTION:If you are new to the region and looking for a job, this event will help you get started.
X-ALT-DESC:If you are new to the region and looking for a job, this event will help you get started.
LOCATION:Rosenkildehuset
END:VEVENT


END:VCALENDAR



