
BEGIN:VCALENDAR
VERSION:2.0
PRODID:-//MarkedsPartner AS//Umbraco CMS//NO
TIMEZONE-ID:Europe/Oslo
X-WR-TIMEZONE:Europe/Oslo


BEGIN:VEVENT
UID:fc882c494a844fd3834b88256872046b
URL:https://stavangernaering-2023.azurewebsites.net/en/events/archive/cv-registration/
ORGANIZER;CN=Ola Normann:MAILTO:ola.normann@markedspartner.no
DTSTAMP:20200129T110000Z
DTSTART:20200129T110000Z
DTEND:20200129T123000Z
LAST-MODIFIED:20200612T113329Z
SUMMARY:CV Registration
DESCRIPTION:Are you looking for a job? Join us for CV Registration with Cathrine Joy Utheim, NAV EURES!
X-ALT-DESC:Are you looking for a job? Join us for CV Registration with Cathrine Joy Utheim, NAV EURES!
LOCATION:Rosenkildehuset
END:VEVENT


END:VCALENDAR



