
BEGIN:VCALENDAR
VERSION:2.0
PRODID:-//MarkedsPartner AS//Umbraco CMS//NO
TIMEZONE-ID:Europe/Oslo
X-WR-TIMEZONE:Europe/Oslo


BEGIN:VEVENT
UID:212aa0bbc3ea4c47b18f4c4b3a24e21d
URL:https://stavangernaering-2023.azurewebsites.net/en/events/archive/cv-registration-210820/
ORGANIZER;CN=Ola Normann:MAILTO:ola.normann@markedspartner.no
DTSTAMP:20200821T100000Z
DTSTART:20200821T100000Z
DTEND:20200821T113000Z
LAST-MODIFIED:20200827T103327Z
SUMMARY:CV Registration and Labour Market Update
DESCRIPTION:At this meeting you will receive a fresh update on the labour market, and some good advice on CV-registration!
X-ALT-DESC:At this meeting you will receive a fresh update on the labour market, and some good advice on CV-registration!
LOCATION:NAV&#180;s Office, Tinngata 8, Storhaug
END:VEVENT


END:VCALENDAR



