
BEGIN:VCALENDAR
VERSION:2.0
PRODID:-//MarkedsPartner AS//Umbraco CMS//NO
TIMEZONE-ID:Europe/Oslo
X-WR-TIMEZONE:Europe/Oslo


BEGIN:VEVENT
UID:62f850de0fb74eac94789a5f64678283
URL:https://stavangernaering-2023.azurewebsites.net/en/events/archive/cultural-understanding_2023/
ORGANIZER;CN=Ola Normann:MAILTO:ola.normann@markedspartner.no
DTSTAMP:20230124T173000Z
DTSTART:20230124T173000Z
DTEND:20230124T200000Z
LAST-MODIFIED:20230125T074735Z
SUMMARY: Cultural Differences in Business and International Marketing
DESCRIPTION:For us as individuals, cultural differences are enriching but can also be bewildering and frustrating. In international business, understanding cultural differences can make the difference between success and failure.
X-ALT-DESC:For us as individuals, cultural differences are enriching but can also be bewildering and frustrating. In international business, understanding cultural differences can make the difference between success and failure.
LOCATION:Rosenkildehuset, Strandkaien 6, 4005 Stavanger
END:VEVENT


END:VCALENDAR



