
BEGIN:VCALENDAR
VERSION:2.0
PRODID:-//MarkedsPartner AS//Umbraco CMS//NO
TIMEZONE-ID:Europe/Oslo
X-WR-TIMEZONE:Europe/Oslo


BEGIN:VEVENT
UID:25d87608d13547d88e12eaca8ce33e42
URL:https://stavangernaering-2023.azurewebsites.net/en/events/archive/cultural-evening_feb2023/
ORGANIZER;CN=Ola Normann:MAILTO:ola.normann@markedspartner.no
DTSTAMP:20230217T173000Z
DTSTART:20230217T173000Z
DTEND:20230217T213000Z
LAST-MODIFIED:20230220T065910Z
SUMMARY:Cultural evening: Explore the world
DESCRIPTION:Want to visit new destinations? Want to learn more about other cultures? or briefly meet other exciting people for friendship and inspiration. Join us for our informal cultural evening, today the focus is on travel to perhaps previously unknown destinations.
X-ALT-DESC:Want to visit new destinations? Want to learn more about other cultures? or briefly meet other exciting people for friendship and inspiration. Join us for our informal cultural evening, today the focus is on travel to perhaps previously unknown destinations.
LOCATION:Rosenkildehuset, Strandkaien 6, 4005 Stavanger
END:VEVENT


END:VCALENDAR



