
BEGIN:VCALENDAR
VERSION:2.0
PRODID:-//MarkedsPartner AS//Umbraco CMS//NO
TIMEZONE-ID:Europe/Oslo
X-WR-TIMEZONE:Europe/Oslo


BEGIN:VEVENT
UID:c58e64d5ada44d5f9aaa7758349e5f9e
URL:https://stavangernaering-2023.azurewebsites.net/en/events/archive/cross-cultureal-communication_oct-2024/
ORGANIZER;CN=Ola Normann:MAILTO:ola.normann@markedspartner.no
DTSTAMP:20241029T173000Z
DTSTART:20241029T173000Z
DTEND:20241029T200000Z
LAST-MODIFIED:20241029T204947Z
SUMMARY:Cross-cultural communication
DESCRIPTION:The benefit of working internationally is that you are exposed to multi-cultural settings, and work with professionals from different backgrounds and cultures!
X-ALT-DESC:The benefit of working internationally is that you are exposed to multi-cultural settings, and work with professionals from different backgrounds and cultures!
LOCATION:Rosenkildehuset
END:VEVENT


END:VCALENDAR



