
BEGIN:VCALENDAR
VERSION:2.0
PRODID:-//MarkedsPartner AS//Umbraco CMS//NO
TIMEZONE-ID:Europe/Oslo
X-WR-TIMEZONE:Europe/Oslo


BEGIN:VEVENT
UID:8f16fa52bb244d83b27fc5b995bec951
URL:https://stavangernaering-2023.azurewebsites.net/en/events/archive/cross-country-skiing/
ORGANIZER;CN=Ola Normann:MAILTO:ola.normann@markedspartner.no
DTSTAMP:20200215T062000Z
DTSTART:20200215T062000Z
DTEND:20200215T171000Z
LAST-MODIFIED:20200212T180222Z
SUMMARY:Cross-country skiing for beginners
DESCRIPTION:You will learn the basics of how to ski, how to go uphill, downhill and most importantly how to fall softly and having fun in the snow!
X-ALT-DESC:You will learn the basics of how to ski, how to go uphill, downhill and most importantly how to fall softly and having fun in the snow!
LOCATION:Frikvarteret, &#197;dneram
END:VEVENT


END:VCALENDAR



