
BEGIN:VCALENDAR
VERSION:2.0
PRODID:-//MarkedsPartner AS//Umbraco CMS//NO
TIMEZONE-ID:Europe/Oslo
X-WR-TIMEZONE:Europe/Oslo


BEGIN:VEVENT
UID:7a2736acbc104af68ac97d387666285e
URL:https://stavangernaering-2023.azurewebsites.net/en/events/archive/cross-country-skiing-for-beginners/
ORGANIZER;CN=Ola Normann:MAILTO:ola.normann@markedspartner.no
DTSTAMP:20200118T062000Z
DTSTART:20200118T062000Z
DTEND:20200118T172000Z
LAST-MODIFIED:20200612T113328Z
SUMMARY:Cross-country skiing for beginners
DESCRIPTION:Cross country skiing is deeply rooted in the Norwegian culture and a sure recipe for fun.
X-ALT-DESC:Cross country skiing is deeply rooted in the Norwegian culture and a sure recipe for fun.
LOCATION:&#197;dneram
END:VEVENT


END:VCALENDAR



