
BEGIN:VCALENDAR
VERSION:2.0
PRODID:-//MarkedsPartner AS//Umbraco CMS//NO
TIMEZONE-ID:Europe/Oslo
X-WR-TIMEZONE:Europe/Oslo


BEGIN:VEVENT
UID:2c4bdef51171441b96d0ed4f3cd6adab
URL:https://stavangernaering-2023.azurewebsites.net/en/events/archive/cross-country-skiing-for-beginners-2/
ORGANIZER;CN=Ola Normann:MAILTO:ola.normann@markedspartner.no
DTSTAMP:20200125T062000Z
DTSTART:20200125T062000Z
DTEND:20200125T171000Z
LAST-MODIFIED:20200612T113328Z
SUMMARY:Cross-country skiing for beginners
DESCRIPTION:You will learn the basics of how to ski, how to go uphill, downhill and most importantly how to fall softly and having fun in the snow!
X-ALT-DESC:You will learn the basics of how to ski, how to go uphill, downhill and most importantly how to fall softly and having fun in the snow!
LOCATION:Frikvarteret, &#197;dneram
END:VEVENT


END:VCALENDAR



