
BEGIN:VCALENDAR
VERSION:2.0
PRODID:-//MarkedsPartner AS//Umbraco CMS//NO
TIMEZONE-ID:Europe/Oslo
X-WR-TIMEZONE:Europe/Oslo


BEGIN:VEVENT
UID:55716cf18c34445f8839c032d7e36b18
URL:https://stavangernaering-2023.azurewebsites.net/en/events/archive/covid-19-relief-packages-usa-norway_130520/
ORGANIZER;CN=Ola Normann:MAILTO:ola.normann@markedspartner.no
DTSTAMP:20200513T150000Z
DTSTART:20200513T150000Z
DTEND:20200513T160000Z
LAST-MODIFIED:20200612T113332Z
SUMMARY:COVID-19 relief packages for the Norwegian American business ecosystem
DESCRIPTION:Are you a Norwegian company operating in the US or a US company operating in Norway?
X-ALT-DESC:Are you a Norwegian company operating in the US or a US company operating in Norway?
LOCATION:Webinar
END:VEVENT


END:VCALENDAR



