
BEGIN:VCALENDAR
VERSION:2.0
PRODID:-//MarkedsPartner AS//Umbraco CMS//NO
TIMEZONE-ID:Europe/Oslo
X-WR-TIMEZONE:Europe/Oslo


BEGIN:VEVENT
UID:1b24d2b5c4664202b493a5c2d356cafb
URL:https://stavangernaering-2023.azurewebsites.net/en/events/archive/covid-19-christmas-survival-guide-091220/
ORGANIZER;CN=Ola Normann:MAILTO:ola.normann@markedspartner.no
DTSTAMP:20201209T180000Z
DTSTART:20201209T180000Z
DTEND:20201209T190000Z
LAST-MODIFIED:20201211T092755Z
SUMMARY:COVID 19 Christmas Survival Guide
DESCRIPTION:There is no sugar-coating it. This year’s Christmas season is going to be unlike any other.
X-ALT-DESC:There is no sugar-coating it. This year’s Christmas season is going to be unlike any other.
LOCATION:Online
END:VEVENT


END:VCALENDAR



