
BEGIN:VCALENDAR
VERSION:2.0
PRODID:-//MarkedsPartner AS//Umbraco CMS//NO
TIMEZONE-ID:Europe/Oslo
X-WR-TIMEZONE:Europe/Oslo


BEGIN:VEVENT
UID:e7981ce749a8474984111394be6d9f73
URL:https://stavangernaering-2023.azurewebsites.net/en/events/archive/countdown-us-election_110620/
ORGANIZER;CN=Ola Normann:MAILTO:ola.normann@markedspartner.no
DTSTAMP:20200611T110000Z
DTSTART:20200611T110000Z
DTEND:20200611T120000Z
LAST-MODIFIED:20200612T113333Z
SUMMARY:US Election 2020
DESCRIPTION:Countdown to the November US Elections with Fox’s Jon Decker & TV 2 Norway’s Eirik Bergesen.
X-ALT-DESC:Countdown to the November US Elections with Fox’s Jon Decker &amp; TV 2 Norway’s Eirik Bergesen.
LOCATION:webinar
END:VEVENT


END:VCALENDAR



