
BEGIN:VCALENDAR
VERSION:2.0
PRODID:-//MarkedsPartner AS//Umbraco CMS//NO
TIMEZONE-ID:Europe/Oslo
X-WR-TIMEZONE:Europe/Oslo


BEGIN:VEVENT
UID:1098180fd4774c70a5f007bfcde93416
URL:https://stavangernaering-2023.azurewebsites.net/en/events/archive/company-visit-to-oceaneering/
ORGANIZER;CN=Ola Normann:MAILTO:ola.normann@markedspartner.no
DTSTAMP:20240208T170000Z
DTSTART:20240208T170000Z
DTEND:20240208T193000Z
LAST-MODIFIED:20240212T071039Z
SUMMARY:Tech Night at Oceaneering
DESCRIPTION:The Norwegian Continental Shelf has some of the harshest environments in the world. In Norway since 1973, Oceaneering has been driven to develop innovative technology and services to benefit the country’s robust onshore and offshore energy industries.
X-ALT-DESC:The Norwegian Continental Shelf has some of the harshest environments in the world. In Norway since 1973, Oceaneering has been driven to develop innovative technology and services to benefit the country’s robust onshore and offshore energy industries.
LOCATION:Oceaneering
END:VEVENT


END:VCALENDAR



