
BEGIN:VCALENDAR
VERSION:2.0
PRODID:-//MarkedsPartner AS//Umbraco CMS//NO
TIMEZONE-ID:Europe/Oslo
X-WR-TIMEZONE:Europe/Oslo


BEGIN:VEVENT
UID:b159767bc1bd49909ce6e5860848b0f2
URL:https://stavangernaering-2023.azurewebsites.net/en/events/archive/company-visit-to-ivar-central-treatment-plant/
ORGANIZER;CN=Ola Normann:MAILTO:ola.normann@markedspartner.no
DTSTAMP:20240409T151500Z
DTSTART:20240409T151500Z
DTEND:20240409T171500Z
LAST-MODIFIED:20240411T071458Z
SUMMARY:Tech Night: Innovation at IVAR Central Treatment Plant 
DESCRIPTION:Did you know that every time you flush the toilet, you participate in a cycle that contributes to the production of biogas and fertilizer, while also helping keep the ocean clean?
X-ALT-DESC:Did you know that every time you flush the toilet, you participate in a cycle that contributes to the production of biogas and fertilizer, while also helping keep the ocean clean?
LOCATION:Mekjarvik
END:VEVENT


END:VCALENDAR



