
BEGIN:VCALENDAR
VERSION:2.0
PRODID:-//MarkedsPartner AS//Umbraco CMS//NO
TIMEZONE-ID:Europe/Oslo
X-WR-TIMEZONE:Europe/Oslo


BEGIN:VEVENT
UID:1ac5eb7ba5eb4884b0d5db8e08929c60
URL:https://stavangernaering-2023.azurewebsites.net/en/events/archive/community-coversation_nov23/
ORGANIZER;CN=Ola Normann:MAILTO:ola.normann@markedspartner.no
DTSTAMP:20231108T173000Z
DTSTART:20231108T173000Z
DTEND:20231108T200000Z
LAST-MODIFIED:20231109T110756Z
SUMMARY:A Community Conversation on Gender Equality and Inclusion
DESCRIPTION:How to foster a more inclusive and diverse culture in Stavanger? Join us to hear three different stories on business insight, personal journey and pointer of how to stay proactive and create opportunities in a new culture.
X-ALT-DESC:How to foster a more inclusive and diverse culture in Stavanger? Join us to hear three different stories on business insight, personal journey and pointer of how to stay proactive and create opportunities in a new culture.
LOCATION:Rosenkildehuset 
END:VEVENT


END:VCALENDAR



