
BEGIN:VCALENDAR
VERSION:2.0
PRODID:-//MarkedsPartner AS//Umbraco CMS//NO
TIMEZONE-ID:Europe/Oslo
X-WR-TIMEZONE:Europe/Oslo


BEGIN:VEVENT
UID:9ecb60f93ca747a997fa7f4117df99d3
URL:https://stavangernaering-2023.azurewebsites.net/en/events/archive/circular-economy_dec-2021/
ORGANIZER;CN=Ola Normann:MAILTO:ola.normann@markedspartner.no
DTSTAMP:20211208T120000Z
DTSTART:20211208T120000Z
DTEND:20211208T140000Z
LAST-MODIFIED:20211208T145855Z
SUMMARY:Challenges of creating circular businesses
DESCRIPTION:Join this open panel debate on challenges of creating circular businesses.
X-ALT-DESC:Join this open panel debate on challenges of creating circular businesses.
LOCATION:Rosenkildehuset, Strandkaien 6, 4005 Stavanger
END:VEVENT


END:VCALENDAR



