
BEGIN:VCALENDAR
VERSION:2.0
PRODID:-//MarkedsPartner AS//Umbraco CMS//NO
TIMEZONE-ID:Europe/Oslo
X-WR-TIMEZONE:Europe/Oslo


BEGIN:VEVENT
UID:83677028455146bd9199328aae4a1120
URL:https://stavangernaering-2023.azurewebsites.net/en/events/archive/christmas_concert-2022/
ORGANIZER;CN=Ola Normann:MAILTO:ola.normann@markedspartner.no
DTSTAMP:20211216T190000Z
DTSTART:20211216T190000Z
DTEND:20211216T201000Z
LAST-MODIFIED:20211216T114325Z
SUMMARY:Christmas concert with Stavanger Symphony Orchestra: Cancelled
DESCRIPTION:Cancelled: We invite you to a unique Christmas concert  at Stavanger Concert Hall with Stavanger Symphony Orchestra, Stavanger Symphony Choir and solists.
X-ALT-DESC:Cancelled: We invite you to a unique Christmas concert  at Stavanger Concert Hall with Stavanger Symphony Orchestra, Stavanger Symphony Choir and solists.
LOCATION:Stavanger Concert Hall
END:VEVENT


END:VCALENDAR



