
BEGIN:VCALENDAR
VERSION:2.0
PRODID:-//MarkedsPartner AS//Umbraco CMS//NO
TIMEZONE-ID:Europe/Oslo
X-WR-TIMEZONE:Europe/Oslo


BEGIN:VEVENT
UID:01c71ec0be9a4520ad11c014e7d15475
URL:https://stavangernaering-2023.azurewebsites.net/en/events/archive/christmas-market-utstein2022/
ORGANIZER;CN=Ola Normann:MAILTO:ola.normann@markedspartner.no
DTSTAMP:20221126T090000Z
DTSTART:20221126T090000Z
DTEND:20221126T140000Z
LAST-MODIFIED:20221128T071200Z
SUMMARY:Christmas market at Utstein Farm
DESCRIPTION:Discover local products and lots of history at the Christmas market at Klostergarden (Utstein Farm).
X-ALT-DESC:Discover local products and lots of history at the Christmas market at Klostergarden (Utstein Farm).
LOCATION:Klostergarden,  Moster&#248;yveien 802, 4156 Moster&#248;y
END:VEVENT


END:VCALENDAR



