
BEGIN:VCALENDAR
VERSION:2.0
PRODID:-//MarkedsPartner AS//Umbraco CMS//NO
TIMEZONE-ID:Europe/Oslo
X-WR-TIMEZONE:Europe/Oslo


BEGIN:VEVENT
UID:f76e7c275ceb475cbc5f9a05fb5cfcf3
URL:https://stavangernaering-2023.azurewebsites.net/en/events/archive/christmas-event-2022/
ORGANIZER;CN=Ola Normann:MAILTO:ola.normann@markedspartner.no
DTSTAMP:20221221T173000Z
DTSTART:20221221T173000Z
DTEND:20221221T213000Z
LAST-MODIFIED:20221222T121459Z
SUMMARY:Christmas Joy!
DESCRIPTION:Santa wants new friends in Stavanger! Welcome to our Christmas get together.
X-ALT-DESC:Santa wants new friends in Stavanger! Welcome to our Christmas get together.
LOCATION:Rosenkildehuset, Strandkaien 6, 4005 Stavanger
END:VEVENT


END:VCALENDAR



