
BEGIN:VCALENDAR
VERSION:2.0
PRODID:-//MarkedsPartner AS//Umbraco CMS//NO
TIMEZONE-ID:Europe/Oslo
X-WR-TIMEZONE:Europe/Oslo


BEGIN:VEVENT
UID:2720fcdd3a8a460a819502f8f72f3b95
URL:https://stavangernaering-2023.azurewebsites.net/en/events/archive/christmas-concert-with-stavanger-symphony-orchestra/
ORGANIZER;CN=Ola Normann:MAILTO:ola.normann@markedspartner.no
DTSTAMP:20191213T183000Z
DTSTART:20191213T183000Z
DTEND:20191213T210000Z
LAST-MODIFIED:20200612T113327Z
SUMMARY:Christmas Concert with Stavanger Symphony Orchestra
DESCRIPTION:We hereby invite you to get into the Christmas spirit with the Stavanger Symphony Orchestra, soloists and choir.
X-ALT-DESC:We hereby invite you to get into the Christmas spirit with the Stavanger Symphony Orchestra, soloists and choir.
LOCATION:Stavanger Concert House, Bjergsted
END:VEVENT


END:VCALENDAR



