
BEGIN:VCALENDAR
VERSION:2.0
PRODID:-//MarkedsPartner AS//Umbraco CMS//NO
TIMEZONE-ID:Europe/Oslo
X-WR-TIMEZONE:Europe/Oslo


BEGIN:VEVENT
UID:7cc9ea5f205d4b6d838c0ee08fba961c
URL:https://stavangernaering-2023.azurewebsites.net/en/events/archive/chess_081121/
ORGANIZER;CN=Ola Normann:MAILTO:ola.normann@markedspartner.no
DTSTAMP:20211108T170000Z
DTSTART:20211108T170000Z
DTEND:20211108T190000Z
LAST-MODIFIED:20211108T091321Z
SUMMARY:Chess for all
DESCRIPTION:Did you know that Stavanger is one of the chess capitals of the world? Welcome to a chess evening to learn more about the chess community in the Stavanger region.
X-ALT-DESC:Did you know that Stavanger is one of the chess capitals of the world? Welcome to a chess evening to learn more about the chess community in the Stavanger region.
LOCATION:Rosenkildehuset, Strandkaien 6, 4005 Stavanger
END:VEVENT


END:VCALENDAR



