
BEGIN:VCALENDAR
VERSION:2.0
PRODID:-//MarkedsPartner AS//Umbraco CMS//NO
TIMEZONE-ID:Europe/Oslo
X-WR-TIMEZONE:Europe/Oslo


BEGIN:VEVENT
UID:ed3b97a417704fffbbce8799f38eb710
URL:https://stavangernaering-2023.azurewebsites.net/en/events/archive/chess-night/
ORGANIZER;CN=Ola Normann:MAILTO:ola.normann@markedspartner.no
DTSTAMP:20200211T170000Z
DTSTART:20200211T170000Z
DTEND:20200211T190000Z
LAST-MODIFIED:20200612T113329Z
SUMMARY:Chess Night!
DESCRIPTION:Curious about the fascinating game of chess? Come and join us for Chess Night in Rosenkildehuset!
X-ALT-DESC:Curious about the fascinating game of chess? Come and join us for Chess Night in Rosenkildehuset!
LOCATION:Rosenkildehuset
END:VEVENT


END:VCALENDAR



