
BEGIN:VCALENDAR
VERSION:2.0
PRODID:-//MarkedsPartner AS//Umbraco CMS//NO
TIMEZONE-ID:Europe/Oslo
X-WR-TIMEZONE:Europe/Oslo


BEGIN:VEVENT
UID:ff39613b042c42568fe6de18d4736a0e
URL:https://stavangernaering-2023.azurewebsites.net/en/events/archive/challenge-yourselves_310821/
ORGANIZER;CN=Ola Normann:MAILTO:ola.normann@markedspartner.no
DTSTAMP:20210901T163000Z
DTSTART:20210901T163000Z
DTEND:20210901T190000Z
LAST-MODIFIED:20210906T092127Z
SUMMARY:Challenge yourself!
DESCRIPTION:Nothing is impossible ! If you are new in town, or just interested in challenging yourself, this evening will be a great networking opportunity, including many adventurous stories.
X-ALT-DESC:Nothing is impossible ! If you are new in town, or just interested in challenging yourself, this evening will be a great networking opportunity, including many adventurous stories.
LOCATION:Rosenkildehuset
END:VEVENT


END:VCALENDAR



