
BEGIN:VCALENDAR
VERSION:2.0
PRODID:-//MarkedsPartner AS//Umbraco CMS//NO
TIMEZONE-ID:Europe/Oslo
X-WR-TIMEZONE:Europe/Oslo


BEGIN:VEVENT
UID:111d9a1cea7648af9c10006aa25f5c7c
URL:https://stavangernaering-2023.azurewebsites.net/en/events/archive/challenge-yourselves_200422/
ORGANIZER;CN=Ola Normann:MAILTO:ola.normann@markedspartner.no
DTSTAMP:20220420T163000Z
DTSTART:20220420T163000Z
DTEND:20220420T190000Z
LAST-MODIFIED:20220421T133426Z
SUMMARY:Challenge yourselves and get inspired
DESCRIPTION:What kind of activities do you like to get inspired by or challenge yourselves with?  How 
do you use your inspiration in your daily life or career? A few years ago Pia Warland and Arnfinn Matre participated in Rally Mongol. For what reason? How does their mindset influence their daily life and business?
X-ALT-DESC:What kind of activities do you like to get inspired by or challenge yourselves with?  How 
do you use your inspiration in your daily life or career? A few years ago Pia Warland and Arnfinn Matre participated in Rally Mongol.&#160;For what reason? How does their mindset influence their daily life and business?
LOCATION:Rosenkildehuset, Strandkaien 6, 4005 Stavanger
END:VEVENT


END:VCALENDAR



