
BEGIN:VCALENDAR
VERSION:2.0
PRODID:-//MarkedsPartner AS//Umbraco CMS//NO
TIMEZONE-ID:Europe/Oslo
X-WR-TIMEZONE:Europe/Oslo


BEGIN:VEVENT
UID:03b20151c5b745b4a70d28fd815980be
URL:https://stavangernaering-2023.azurewebsites.net/en/events/archive/challenge-yourself-2024/
ORGANIZER;CN=Ola Normann:MAILTO:ola.normann@markedspartner.no
DTSTAMP:20240410T163000Z
DTSTART:20240410T163000Z
DTEND:20240410T180000Z
LAST-MODIFIED:20240411T071519Z
SUMMARY:Challenge Yourself! 
DESCRIPTION:Ignite Your Passion and Push Your Limits. Join us for an inspiring evening where you will learn that stepping out of the comfort zone can lead to amazing things!
X-ALT-DESC:Ignite Your Passion and Push Your Limits. Join us for an inspiring evening where you will learn that stepping out of the comfort zone can lead to amazing things!
LOCATION:Rosenkildehuset
END:VEVENT


END:VCALENDAR



