
BEGIN:VCALENDAR
VERSION:2.0
PRODID:-//MarkedsPartner AS//Umbraco CMS//NO
TIMEZONE-ID:Europe/Oslo
X-WR-TIMEZONE:Europe/Oslo


BEGIN:VEVENT
UID:8f31126c40754f65b4a509fb1a1258c7
URL:https://stavangernaering-2023.azurewebsites.net/en/events/archive/buying-apartment_april2022/
ORGANIZER;CN=Ola Normann:MAILTO:ola.normann@markedspartner.no
DTSTAMP:20220427T163000Z
DTSTART:20220427T163000Z
DTEND:20220427T190000Z
LAST-MODIFIED:20220427T185709Z
SUMMARY:Do you plan to buy an apartment or house?
DESCRIPTION:Buying an apartment  or house is a serious investment. Welcome to join us for a very practical evening with information about viewing, bidding, buying and maintaining. Do it correctly from the start!
X-ALT-DESC:Buying an apartment  or house is a serious investment. Welcome to join us for a very practical evening with information about viewing, bidding, buying and maintaining. Do it correctly from the start!
LOCATION:Rosenkildehuset + Gamle Stavanger
END:VEVENT


END:VCALENDAR



