
BEGIN:VCALENDAR
VERSION:2.0
PRODID:-//MarkedsPartner AS//Umbraco CMS//NO
TIMEZONE-ID:Europe/Oslo
X-WR-TIMEZONE:Europe/Oslo


BEGIN:VEVENT
UID:ef6e73d382454d898197b4c86de10f40
URL:https://stavangernaering-2023.azurewebsites.net/en/events/archive/business-board_november2022/
ORGANIZER;CN=Ola Normann:MAILTO:ola.normann@markedspartner.no
DTSTAMP:20221122T173000Z
DTSTART:20221122T173000Z
DTEND:20221122T200000Z
LAST-MODIFIED:20221122T180532Z
SUMMARY:Entrepreneur tips: Budget and Board
DESCRIPTION:A solid and realistic budget is very important for all businesses, and a Business Board could improve your business on many levels.
X-ALT-DESC:A solid and realistic budget is very important for all businesses, and a Business Board could improve your business on many levels.
LOCATION:Rosenkildehuset, Strandkaien 6, 4005 Stavanger
END:VEVENT


END:VCALENDAR



