
BEGIN:VCALENDAR
VERSION:2.0
PRODID:-//MarkedsPartner AS//Umbraco CMS//NO
TIMEZONE-ID:Europe/Oslo
X-WR-TIMEZONE:Europe/Oslo


BEGIN:VEVENT
UID:89f228daad304627aec8cbb1446f4b85
URL:https://stavangernaering-2023.azurewebsites.net/en/events/archive/building-a-professional-network_2023/
ORGANIZER;CN=Ola Normann:MAILTO:ola.normann@markedspartner.no
DTSTAMP:20230926T163000Z
DTSTART:20230926T163000Z
DTEND:20230926T190000Z
LAST-MODIFIED:20230927T053914Z
SUMMARY:Building a professional international network
DESCRIPTION:This gathering presents a one-of-a-kind opportunity to bring together all stakeholders in the energy sector and contribute to strengthening the Energy Capital, with how to grow with your personal network in mind.
X-ALT-DESC:This gathering presents a one-of-a-kind opportunity to bring together all stakeholders in the energy sector and contribute to strengthening the Energy Capital, with how to grow with your personal network in mind.
LOCATION:Rosenkildehuset, Strandkaien 6, 4005 Stavanger
END:VEVENT


END:VCALENDAR



