
BEGIN:VCALENDAR
VERSION:2.0
PRODID:-//MarkedsPartner AS//Umbraco CMS//NO
TIMEZONE-ID:Europe/Oslo
X-WR-TIMEZONE:Europe/Oslo


BEGIN:VEVENT
UID:0f1b4bd2081c4ae79c6cd0d161007ed2
URL:https://stavangernaering-2023.azurewebsites.net/en/events/archive/brusand-ogna_010522/
ORGANIZER;CN=Ola Normann:MAILTO:ola.normann@markedspartner.no
DTSTAMP:20210425T074500Z
DTSTART:20210425T074500Z
DTEND:20210425T154500Z
LAST-MODIFIED:20220405T183128Z
SUMMARY:Sunday hike from Brusand to Ogna
DESCRIPTION:Join us for a beautiful walk between Brusand  and Ogna.
X-ALT-DESC:Join us for a beautiful walk between Brusand  and Ogna.
LOCATION:Brusand - Ogna
END:VEVENT


END:VCALENDAR



