
BEGIN:VCALENDAR
VERSION:2.0
PRODID:-//MarkedsPartner AS//Umbraco CMS//NO
TIMEZONE-ID:Europe/Oslo
X-WR-TIMEZONE:Europe/Oslo


BEGIN:VEVENT
UID:4f2b0af9d8354667875fff29ed600d26
URL:https://stavangernaering-2023.azurewebsites.net/en/events/archive/breast-cancer-awareness_301024/
ORGANIZER;CN=Ola Normann:MAILTO:ola.normann@markedspartner.no
DTSTAMP:20241030T170000Z
DTSTART:20241030T170000Z
DTEND:20241030T200000Z
LAST-MODIFIED:20241031T090616Z
SUMMARY:The Norwegian health system: Breast Cancer Awareness 
DESCRIPTION:October is breast cancer awareness month. Tune in for a session with stories, insight and learn breast self-examination techniques from a specialist.
X-ALT-DESC:October is breast cancer awareness month. Tune in for a session with stories, insight and learn breast self-examination techniques from a specialist.
LOCATION:Rosenkildehuset 
END:VEVENT


END:VCALENDAR



