
BEGIN:VCALENDAR
VERSION:2.0
PRODID:-//MarkedsPartner AS//Umbraco CMS//NO
TIMEZONE-ID:Europe/Oslo
X-WR-TIMEZONE:Europe/Oslo


BEGIN:VEVENT
UID:340cf6bbcf6d4fff8ef45efbfbaaaff1
URL:https://stavangernaering-2023.azurewebsites.net/en/events/archive/boers-og-fakultet_060622/
ORGANIZER;CN=Ola Normann:MAILTO:ola.normann@markedspartner.no
DTSTAMP:20230606T060000Z
DTSTART:20230606T060000Z
DTEND:20230606T071500Z
LAST-MODIFIED:20230606T200509Z
SUMMARY:Debate: The Weird, Irrational, and Wonderful Ways Humans Navigate the Workplace
DESCRIPTION:The university of Stavanger and Stavanger Chamber of Commerce invite you to a debate with Professor Matthias Sutter. He is one of Europe's leading researchers on management. Sutter has recently published the book "Behavior Economics for Leaders - Research based insights on the weird, irrational and wonderful way humans navigate the workplace".
X-ALT-DESC:The university of Stavanger and Stavanger Chamber of Commerce invite you to a debate with Professor Matthias Sutter. He is one of Europe&#39;s leading researchers on management. Sutter has recently published the book &quot;Behavior Economics for Leaders - Research based insights on the weird, irrational and wonderful way humans navigate the workplace&quot;.
LOCATION:Handelsh&#248;gskolen UIS, Elise Ottesen Jensen Hus, Kjell Arholms gate 37, 4021 Stavanger
END:VEVENT


END:VCALENDAR



