
BEGIN:VCALENDAR
VERSION:2.0
PRODID:-//MarkedsPartner AS//Umbraco CMS//NO
TIMEZONE-ID:Europe/Oslo
X-WR-TIMEZONE:Europe/Oslo


BEGIN:VEVENT
UID:71ff9cf51e6b468ca32716f203d951f3
URL:https://stavangernaering-2023.azurewebsites.net/en/events/archive/biking-hafrsfjord/
ORGANIZER;CN=Ola Normann:MAILTO:ola.normann@markedspartner.no
DTSTAMP:20220508T090000Z
DTSTART:20220508T090000Z
DTEND:20220508T110000Z
LAST-MODIFIED:20220510T055456Z
SUMMARY:Biking Along Historical Hafrsfjord!
DESCRIPTION:Join us for a pleasant bike journey along the beautiful Hafrsfjord!
X-ALT-DESC:Join us for a pleasant bike journey along the beautiful Hafrsfjord!
LOCATION:
END:VEVENT


END:VCALENDAR



