
BEGIN:VCALENDAR
VERSION:2.0
PRODID:-//MarkedsPartner AS//Umbraco CMS//NO
TIMEZONE-ID:Europe/Oslo
X-WR-TIMEZONE:Europe/Oslo


BEGIN:VEVENT
UID:73d4642d9bb94e508bb7e511141ded5c
URL:https://stavangernaering-2023.azurewebsites.net/en/events/archive/biking-at-hundvaag_07221/
ORGANIZER;CN=Ola Normann:MAILTO:ola.normann@markedspartner.no
DTSTAMP:20210321T110000Z
DTSTART:20210321T110000Z
DTEND:20210321T130000Z
LAST-MODIFIED:20210322T193030Z
SUMMARY:Hundvåg by bike!
DESCRIPTION:Hundvåg is a picturesque part of Stavanger, and a great place for biking. Join us for a trip!
X-ALT-DESC:Hundv&#229;g is a picturesque part of Stavanger, and a great place for biking. Join us for a trip!
LOCATION:Rosenkildehuset
END:VEVENT


END:VCALENDAR



