
BEGIN:VCALENDAR
VERSION:2.0
PRODID:-//MarkedsPartner AS//Umbraco CMS//NO
TIMEZONE-ID:Europe/Oslo
X-WR-TIMEZONE:Europe/Oslo


BEGIN:VEVENT
UID:6db7767c775945fe90545b26e0c5cf44
URL:https://stavangernaering-2023.azurewebsites.net/en/events/archive/biking-at-hafrsfjord_130920/
ORGANIZER;CN=Ola Normann:MAILTO:ola.normann@markedspartner.no
DTSTAMP:20200913T100000Z
DTSTART:20200913T100000Z
DTEND:20200913T113000Z
LAST-MODIFIED:20200921T061821Z
SUMMARY:Hafrsfjord by Bike!
DESCRIPTION:Join us for a wonderful bicycle-ride along the historic Hafrsfjord. We start at Sørmarka Arena, and end up at Møllebukta after having done a small round-trip. We will be riding one of the most spectacular bike- and footpaths in Norway!
X-ALT-DESC:Join us for a wonderful bicycle-ride along the historic Hafrsfjord. We start at S&#248;rmarka Arena, and end up at M&#248;llebukta after having done a small round-trip. We will be riding one of the most spectacular bike- and footpaths in Norway!
LOCATION:Hafrsfjord
END:VEVENT


END:VCALENDAR



