
BEGIN:VCALENDAR
VERSION:2.0
PRODID:-//MarkedsPartner AS//Umbraco CMS//NO
TIMEZONE-ID:Europe/Oslo
X-WR-TIMEZONE:Europe/Oslo


BEGIN:VEVENT
UID:a18d71e20d454f74a708c967060c071c
URL:https://stavangernaering-2023.azurewebsites.net/en/events/archive/bikehundv-021022/
ORGANIZER;CN=Ola Normann:MAILTO:ola.normann@markedspartner.no
DTSTAMP:20221002T090000Z
DTSTART:20221002T090000Z
DTEND:20221002T110000Z
LAST-MODIFIED:20221003T084649Z
SUMMARY:Hundvåg by bike!
DESCRIPTION:Join us for a fresh trip by bike around beautiful Hundvåg!
X-ALT-DESC:Join us for a fresh trip by bike around beautiful Hundv&#229;g!
LOCATION:Hundv&#229;g
END:VEVENT


END:VCALENDAR



