
BEGIN:VCALENDAR
VERSION:2.0
PRODID:-//MarkedsPartner AS//Umbraco CMS//NO
TIMEZONE-ID:Europe/Oslo
X-WR-TIMEZONE:Europe/Oslo


BEGIN:VEVENT
UID:8241cbbd3e414fdbb3ffc42ef437e041
URL:https://stavangernaering-2023.azurewebsites.net/en/events/archive/become-a-tourist-guide_okt2022/
ORGANIZER;CN=Ola Normann:MAILTO:ola.normann@markedspartner.no
DTSTAMP:20221007T073000Z
DTSTART:20221007T073000Z
DTEND:20221007T090000Z
LAST-MODIFIED:20221007T081056Z
SUMMARY:Interested in a part time job as a guide? 
DESCRIPTION:The Stavanger-region have many international visitors over the course of a year and they need to know what our city is all about! Guidecompaniet are looking to hire new guides for the 2023 season.
X-ALT-DESC:The Stavanger-region have many international visitors over the course of a year and they need to know what our city is all about! Guidecompaniet are looking to hire new guides for the 2023 season.
LOCATION:Rosenkildehuset, Strandkaien 6, 4005 Stavanger
END:VEVENT


END:VCALENDAR



