
BEGIN:VCALENDAR
VERSION:2.0
PRODID:-//MarkedsPartner AS//Umbraco CMS//NO
TIMEZONE-ID:Europe/Oslo
X-WR-TIMEZONE:Europe/Oslo


BEGIN:VEVENT
UID:353274984f6640b38b5a7a4e43b79335
URL:https://stavangernaering-2023.azurewebsites.net/en/events/archive/become-a-tour-guide_sept24/
ORGANIZER;CN=Ola Normann:MAILTO:ola.normann@markedspartner.no
DTSTAMP:20240926T073000Z
DTSTART:20240926T073000Z
DTEND:20240926T090000Z
LAST-MODIFIED:20240926T133157Z
SUMMARY:Want to become a tour guide? 
DESCRIPTION:The Stavanger-region have many international visitors over the course of a year and they need to know what our city is all about! Guidecompaniet are looking to hire new guides for the 2025 season.
X-ALT-DESC:The Stavanger-region have many international visitors over the course of a year and they need to know what our city is all about! Guidecompaniet are looking to hire new guides for the 2025 season.
LOCATION:Rosenkildehuset, Strandkaien 6, 4005 Stavanger
END:VEVENT


END:VCALENDAR



