
BEGIN:VCALENDAR
VERSION:2.0
PRODID:-//MarkedsPartner AS//Umbraco CMS//NO
TIMEZONE-ID:Europe/Oslo
X-WR-TIMEZONE:Europe/Oslo


BEGIN:VEVENT
UID:cdb47bd60993487f80daa389167951eb
URL:https://stavangernaering-2023.azurewebsites.net/en/events/archive/become-a-tour-guide_nov23/
ORGANIZER;CN=Ola Normann:MAILTO:ola.normann@markedspartner.no
DTSTAMP:20231109T083000Z
DTSTART:20231109T083000Z
DTEND:20231109T100000Z
LAST-MODIFIED:20231109T100455Z
SUMMARY:Want to become a tour guide? 
DESCRIPTION:The Stavanger-region have many international visitors over the course of a year and they need to know what our city is all about! Guidecompaniet are looking to hire new guides for the 2024 season.
X-ALT-DESC:The Stavanger-region have many international visitors over the course of a year and they need to know what our city is all about! Guidecompaniet are looking to hire new guides for the 2024 season.
LOCATION:Rosenkildehuset, Strandkaien 6, 4005 Stavanger
END:VEVENT


END:VCALENDAR



