
BEGIN:VCALENDAR
VERSION:2.0
PRODID:-//MarkedsPartner AS//Umbraco CMS//NO
TIMEZONE-ID:Europe/Oslo
X-WR-TIMEZONE:Europe/Oslo


BEGIN:VEVENT
UID:50edbfc9a94e4218809df415303d92d8
URL:https://stavangernaering-2023.azurewebsites.net/en/events/archive/beach-clean-up_160324-1/
ORGANIZER;CN=Ola Normann:MAILTO:ola.normann@markedspartner.no
DTSTAMP:20240316T100000Z
DTSTART:20240316T100000Z
DTEND:20240316T130000Z
LAST-MODIFIED:20240318T133616Z
SUMMARY:Beach-clean up with Clean Shores Norway 
DESCRIPTION:Join the big spring clean up day at Brunnavika, Tananger.
X-ALT-DESC:Join the big spring clean up day at Brunnavika, Tananger.
LOCATION:Brunnvika, Sola 
END:VEVENT


END:VCALENDAR



