
BEGIN:VCALENDAR
VERSION:2.0
PRODID:-//MarkedsPartner AS//Umbraco CMS//NO
TIMEZONE-ID:Europe/Oslo
X-WR-TIMEZONE:Europe/Oslo


BEGIN:VEVENT
UID:289a08d5eb89426ca638742ec8459668
URL:https://stavangernaering-2023.azurewebsites.net/en/events/archive/beach-clean-up_140924-1/
ORGANIZER;CN=Ola Normann:MAILTO:ola.normann@markedspartner.no
DTSTAMP:20240914T100000Z
DTSTART:20240914T100000Z
DTEND:20240914T120000Z
LAST-MODIFIED:20240915T155443Z
SUMMARY:Beach-clean up with Clean Shores Norway 
DESCRIPTION:Hold Norge Rent mobilizes volunteers every year for national cleanup campaigns. Join our clean-up event during Strandryddeuka and bring your friends and family.
X-ALT-DESC:Hold Norge Rent mobilizes volunteers every year for national cleanup campaigns. Join our clean-up event during Strandryddeuka and bring your friends and family.
LOCATION:Ustein Kloster
END:VEVENT


END:VCALENDAR



