
BEGIN:VCALENDAR
VERSION:2.0
PRODID:-//MarkedsPartner AS//Umbraco CMS//NO
TIMEZONE-ID:Europe/Oslo
X-WR-TIMEZONE:Europe/Oslo


BEGIN:VEVENT
UID:7724caf35e6f440c84959ecd113c172c
URL:https://stavangernaering-2023.azurewebsites.net/en/events/archive/beach-clean-up_080425/
ORGANIZER;CN=Ola Normann:MAILTO:ola.normann@markedspartner.no
DTSTAMP:20250408T153000Z
DTSTART:20250408T153000Z
DTEND:20250408T173000Z
LAST-MODIFIED:20250409T091647Z
SUMMARY:Beach-clean up with Clean shores Norway 
DESCRIPTION:Join our clean up session at Engøy and bring your family and friends along.
X-ALT-DESC:Join our clean up session at Eng&#248;y and bring your family and friends along.
LOCATION:Eng&#248;y 
END:VEVENT


END:VCALENDAR



