
BEGIN:VCALENDAR
VERSION:2.0
PRODID:-//MarkedsPartner AS//Umbraco CMS//NO
TIMEZONE-ID:Europe/Oslo
X-WR-TIMEZONE:Europe/Oslo


BEGIN:VEVENT
UID:680de737c62d48429f9eac7d02241465
URL:https://stavangernaering-2023.azurewebsites.net/en/events/archive/attractive-financial-centre_2023/
ORGANIZER;CN=Ola Normann:MAILTO:ola.normann@markedspartner.no
DTSTAMP:20230914T163000Z
DTSTART:20230914T163000Z
DTEND:20230914T200000Z
LAST-MODIFIED:20230914T204132Z
SUMMARY:Stavanger as an attractive financial hub
DESCRIPTION:Finance master students are invited to a social evening together with some of our established finance institutions in the region.
X-ALT-DESC:Finance master students are invited to a social evening together with some of our established finance institutions in the region.
LOCATION:Rosenkildehuset, Strandgt. 6, 4005 Stavanger
END:VEVENT


END:VCALENDAR



