
BEGIN:VCALENDAR
VERSION:2.0
PRODID:-//MarkedsPartner AS//Umbraco CMS//NO
TIMEZONE-ID:Europe/Oslo
X-WR-TIMEZONE:Europe/Oslo


BEGIN:VEVENT
UID:2adef7d1803946aab0f407160755ce74
URL:https://stavangernaering-2023.azurewebsites.net/en/events/archive/attractive-finance-hub_october2022/
ORGANIZER;CN=Ola Normann:MAILTO:ola.normann@markedspartner.no
DTSTAMP:20221020T163000Z
DTSTART:20221020T163000Z
DTEND:20221020T200000Z
LAST-MODIFIED:20221022T131940Z
SUMMARY:Attractive financial centre
DESCRIPTION:Finance master students are invited to a social evening together with some of our established finance institutions in the region.
X-ALT-DESC:Finance master students are invited to a social evening together with some of our established finance institutions in the region.
LOCATION:Rosenkildehuset
END:VEVENT


END:VCALENDAR



