
BEGIN:VCALENDAR
VERSION:2.0
PRODID:-//MarkedsPartner AS//Umbraco CMS//NO
TIMEZONE-ID:Europe/Oslo
X-WR-TIMEZONE:Europe/Oslo


BEGIN:VEVENT
UID:5d547952e7774600b8d9a33d3de86bda
URL:https://stavangernaering-2023.azurewebsites.net/en/events/archive/attractive-finance-hub_191021/
ORGANIZER;CN=Ola Normann:MAILTO:ola.normann@markedspartner.no
DTSTAMP:20211019T163000Z
DTSTART:20211019T163000Z
DTEND:20211019T200000Z
LAST-MODIFIED:20211021T134040Z
SUMMARY:Attractive financial centre
DESCRIPTION:The Stavanger-region has a variety of finance institutions. Finance master students are invited to this social evening together with some of our  established​ finance institutions in Stavanger.
X-ALT-DESC:The Stavanger-region has a variety of finance institutions. Finance master students are invited to this social evening together with some of our  established​ finance institutions in Stavanger.
LOCATION:Rosenkildehuset
END:VEVENT


END:VCALENDAR



